BEGIN:VCALENDAR
VERSION:2.0
PRODID:-//Åhusgården - ECPv6.15.20//NONSGML v1.0//EN
CALSCALE:GREGORIAN
METHOD:PUBLISH
X-ORIGINAL-URL:https://www.ahusgarden.se
X-WR-CALDESC:Händelser för Åhusgården
REFRESH-INTERVAL;VALUE=DURATION:PT1H
X-Robots-Tag:noindex
X-PUBLISHED-TTL:PT1H
BEGIN:VTIMEZONE
TZID:Europe/Stockholm
BEGIN:DAYLIGHT
TZOFFSETFROM:+0100
TZOFFSETTO:+0200
TZNAME:CEST
DTSTART:20240331T010000
END:DAYLIGHT
BEGIN:STANDARD
TZOFFSETFROM:+0200
TZOFFSETTO:+0100
TZNAME:CET
DTSTART:20241027T010000
END:STANDARD
BEGIN:DAYLIGHT
TZOFFSETFROM:+0100
TZOFFSETTO:+0200
TZNAME:CEST
DTSTART:20250330T010000
END:DAYLIGHT
BEGIN:STANDARD
TZOFFSETFROM:+0200
TZOFFSETTO:+0100
TZNAME:CET
DTSTART:20251026T010000
END:STANDARD
BEGIN:DAYLIGHT
TZOFFSETFROM:+0100
TZOFFSETTO:+0200
TZNAME:CEST
DTSTART:20260329T010000
END:DAYLIGHT
BEGIN:STANDARD
TZOFFSETFROM:+0200
TZOFFSETTO:+0100
TZNAME:CET
DTSTART:20261025T010000
END:STANDARD
END:VTIMEZONE
BEGIN:VEVENT
DTSTART;TZID=Europe/Stockholm:20251129T160000
DTEND;TZID=Europe/Stockholm:20251129T190000
DTSTAMP:20260418T222245
CREATED:20250305T065456Z
LAST-MODIFIED:20250305T065456Z
UID:3117-1764432000-1764442800@www.ahusgarden.se
SUMMARY:Julkonsert med Gospel Stompers
DESCRIPTION:En tradition som vi värnar om också. \nKonsert med Gospel Stompers och sen vårt Julbord/jultallrik. \nVälkomna! \nÅhusGården
URL:https://www.ahusgarden.se/event/julkonsert-med-gospel-stompers/
ORGANIZER;CN="%C3%85husG%C3%A5rden":MAILTO:Kontakt@ahusgarden.se
END:VEVENT
END:VCALENDAR